BEGIN:VCALENDAR
VERSION:2.0
PRODID:-//https://www.westchesterclerkny.gov///NONSGML kigkonsult.se iCalcreator 2.10.15//
METHOD:PUBLISH
BEGIN:VEVENT
UID:20260425T214936EDT-2592B37buA@https://www.westchesterclerkny.gov/
DTSTAMP:20260426T014936Z
DESCRIPTION: https://www.westchesterclerkny.gov/about/events/event/3-thanks
 giving-friday
DTSTART;VALUE=DATE:20251128
LOCATION:Office of the Westchester County Clerk (110 Dr. Martin Luther King
  Blvd.\, White Plains\, NY 10601)
SUMMARY:Thanksgiving Friday
URL:https://www.westchesterclerkny.gov/about/events/event/3-thanksgiving-fr
 iday
END:VEVENT
BEGIN:VEVENT
UID:20260425T214936EDT-2594rsN2Ib@https://www.westchesterclerkny.gov/
DTSTAMP:20260426T014936Z
DESCRIPTION: https://www.westchesterclerkny.gov/about/events/event/4-thanks
 giving-day
DTSTART;VALUE=DATE:20251127
LOCATION:Office of the Westchester County Clerk (110 Dr. Martin Luther King
  Blvd.\, White Plains\, NY 10601)
SUMMARY:Thanksgiving Day
URL:https://www.westchesterclerkny.gov/about/events/event/4-thanksgiving-da
 y
END:VEVENT
END:VCALENDAR
