BEGIN:VCALENDAR
VERSION:2.0
PRODID:-//https://www.westchesterclerkny.gov///NONSGML kigkonsult.se iCalcreator 2.10.15//
METHOD:PUBLISH
BEGIN:VEVENT
UID:20260425T215025EDT-5437tMezaO@https://www.westchesterclerkny.gov/
DTSTAMP:20260426T015025Z
DESCRIPTION: https://www.westchesterclerkny.gov/about/events/event/7-electi
 on-day
DTSTART;VALUE=DATE:20251104
LOCATION:Office of the Westchester County Clerk (110 Dr. Martin Luther King
  Blvd.\, White Plains\, NY 10601)
SUMMARY:Election Day
URL:https://www.westchesterclerkny.gov/about/events/event/7-election-day
END:VEVENT
END:VCALENDAR
