BEGIN:VCALENDAR
VERSION:2.0
PRODID:-//https://www.westchesterclerkny.gov///NONSGML kigkonsult.se iCalcreator 2.10.15//
METHOD:PUBLISH
BEGIN:VEVENT
UID:20260425T161846EDT-3317saBLR9@https://www.westchesterclerkny.gov/
DTSTAMP:20260425T201846Z
DESCRIPTION:Services we will offer on-site include:\n• Filing and obtaining
  copies of Military Discharge/DD214\n• Registering DBAs and issuing certif
 ied copies\n• Providing certified copies of deeds\, mortgages\, and satisf
 actions of mortgage\n• Free Notary Public services\n• Passport photos http
 s://www.westchesterclerkny.gov/about/events/event/59-community-outreach-vi
 llage-of-bronxville
DTSTART:20260227T110000Z
DTEND:20260227T133000Z
LOCATION:Bronxville Village Hall (200 Pondfield Road\, Bronxville\, NY )
SUMMARY:Community Outreach Village of Bronxville
URL:https://www.westchesterclerkny.gov/about/events/event/59-community-outr
 each-village-of-bronxville
END:VEVENT
END:VCALENDAR
