BEGIN:VCALENDAR
VERSION:2.0
PRODID:-//https://www.westchesterclerkny.gov///NONSGML kigkonsult.se iCalcreator 2.10.15//
METHOD:PUBLISH
BEGIN:VEVENT
UID:20260425T162956EDT-38751KGuWg@https://www.westchesterclerkny.gov/
DTSTAMP:20260425T202956Z
DESCRIPTION: https://www.westchesterclerkny.gov/about/events/event/63-tarry
 town-community-outreach
DTSTART:20260320T103000Z
DTEND:20260320T133000Z
LOCATION:Tarrytown Warner Library (121 North Broadway Tarrytown\, NY 10591)
SUMMARY:Tarrytown Community Outreach
URL:https://www.westchesterclerkny.gov/about/events/event/63-tarrytown-comm
 unity-outreach
END:VEVENT
END:VCALENDAR
