BEGIN:VCALENDAR
VERSION:2.0
PRODID:-//https://www.westchesterclerkny.gov///NONSGML kigkonsult.se iCalcreator 2.10.15//
METHOD:PUBLISH
BEGIN:VEVENT
UID:20260425T174126EDT-0529NFtB1K@https://www.westchesterclerkny.gov/
DTSTAMP:20260425T214126Z
DESCRIPTION:Services we will offer on-site include:\n• Filing and obtaining
  copies of Military Discharge/DD214\n• Registering DBAs and issuing certif
 ied copies\n• Providing certified copies of deeds\, mortgages\, and satisf
 actions of mortgage\n• Free Notary Public services\n• Passport photos http
 s://www.westchesterclerkny.gov/about/events/event/58-community-outreach-yo
 rktown-library
DTSTART:20260209T110000Z
DTEND:20260209T150000Z
LOCATION:Yorktown Library (1130 E Main St\, Shrub Oak\, NY 10588)
SUMMARY:Community Outreach Yorktown Library
URL:https://www.westchesterclerkny.gov/about/events/event/58-community-outr
 each-yorktown-library
END:VEVENT
END:VCALENDAR
