BEGIN:VCALENDAR
VERSION:2.0
PRODID:-//https://www.westchesterclerkny.gov///NONSGML kigkonsult.se iCalcreator 2.10.15//
METHOD:PUBLISH
BEGIN:VEVENT
UID:20260425T205518EDT-4017cuaonp@https://www.westchesterclerkny.gov/
DTSTAMP:20260426T005518Z
DESCRIPTION: https://www.westchesterclerkny.gov/about/events/event/56-new-y
 ears-day
DTSTART;VALUE=DATE:20250101
LOCATION:Office of the Westchester County Clerk (110 Dr. Martin Luther King
  Blvd.\, White Plains\, NY 10601)
SUMMARY:New Year's Day
URL:https://www.westchesterclerkny.gov/about/events/event/56-new-years-day
END:VEVENT
END:VCALENDAR
