BEGIN:VCALENDAR
VERSION:2.0
PRODID:-//https://www.westchesterclerkny.gov///NONSGML kigkonsult.se iCalcreator 2.10.15//
METHOD:PUBLISH
BEGIN:VEVENT
UID:20260425T210527EDT-7098dVGXE8@https://www.westchesterclerkny.gov/
DTSTAMP:20260426T010527Z
DESCRIPTION: https://www.westchesterclerkny.gov/about/events/event/55-dr-ma
 rtin-luther-king-jr-s-birthday
DTSTART;VALUE=DATE:20250120
LOCATION:Office of the Westchester County Clerk (110 Dr. Martin Luther King
  Blvd.\, White Plains\, NY 10601)
SUMMARY:Dr. Martin Luther King Jr.'s Birthday
URL:https://www.westchesterclerkny.gov/about/events/event/55-dr-martin-luth
 er-king-jr-s-birthday
END:VEVENT
END:VCALENDAR
