BEGIN:VCALENDAR
VERSION:2.0
PRODID:-//https://www.westchesterclerkny.gov///NONSGML kigkonsult.se iCalcreator 2.10.15//
METHOD:PUBLISH
BEGIN:VEVENT
UID:20260425T210052EDT-5819vzhBne@https://www.westchesterclerkny.gov/
DTSTAMP:20260426T010052Z
DESCRIPTION: https://www.westchesterclerkny.gov/about/events/event/54-presi
 dents-day
DTSTART;VALUE=DATE:20250217
LOCATION:Office of the Westchester County Clerk (110 Dr. Martin Luther King
  Blvd.\, White Plains\, NY 10601)
SUMMARY:Presidents' Day
URL:https://www.westchesterclerkny.gov/about/events/event/54-presidents-day
END:VEVENT
END:VCALENDAR
