BEGIN:VCALENDAR
VERSION:2.0
PRODID:-//https://www.westchesterclerkny.gov///NONSGML kigkonsult.se iCalcreator 2.10.15//
METHOD:PUBLISH
BEGIN:VEVENT
UID:20260425T204135EDT-50896G3JIB@https://www.westchesterclerkny.gov/
DTSTAMP:20260426T004135Z
DESCRIPTION: https://www.westchesterclerkny.gov/about/events/event/40-junet
 eenth
DTSTART;VALUE=DATE:20250619
LOCATION:Office of the Westchester County Clerk (110 Dr. Martin Luther King
  Blvd.\, White Plains\, NY 10601)
SUMMARY:Juneteenth
URL:https://www.westchesterclerkny.gov/about/events/event/40-juneteenth
END:VEVENT
END:VCALENDAR
