BEGIN:VCALENDAR
VERSION:2.0
PRODID:-//https://www.westchesterclerkny.gov///NONSGML kigkonsult.se iCalcreator 2.10.15//
METHOD:PUBLISH
BEGIN:VEVENT
UID:20260425T175526EDT-0372umvVUe@https://www.westchesterclerkny.gov/
DTSTAMP:20260425T215526Z
DESCRIPTION:Our expanded community outreach services office can now help yo
 u right in your home town. We can process your original passport or busine
 ss license application\, accept your DD-214 veterans discharge papers or n
 otarize documents when we visit the Joseph J. Caputo Community Center on B
 roadway\, in Ossining\, NY 10562 on Tuesday\, July 15th\, 10:00 a.m. to 1:
 00 p.m https://www.westchesterclerkny.gov/about/events/event/31-ossining-m
 obile-office-visit
DTSTART:20250715T140000Z
DTEND:20250715T170000Z
LOCATION:Joseph J. Caputo Community Center ((Upper Parking Lot)  95 Broadwa
 y\, Ossining\, New York 10562)
SUMMARY:Ossining - Mobile Office Visit
URL:https://www.westchesterclerkny.gov/about/events/event/31-ossining-mobil
 e-office-visit
END:VEVENT
END:VCALENDAR
