BEGIN:VCALENDAR
VERSION:2.0
PRODID:-//https://www.westchesterclerkny.gov///NONSGML kigkonsult.se iCalcreator 2.10.15//
METHOD:PUBLISH
BEGIN:VEVENT
UID:20260425T180750EDT-0025vNgTf1@https://www.westchesterclerkny.gov/
DTSTAMP:20260425T220750Z
DESCRIPTION:Our expanded community outreach services office can now help yo
 u right in your home town. We can process your original passport or busine
 ss license application\, accept your DD-214 veterans discharge papers or n
 otarize documents when we visit the Anthony F. Veteran Park on Olympic Lan
 e\, in Ardsley\, NY 10502 on Sat. 7/19\, 10:00 a.m. to 3:00 p.m. https://w
 ww.westchesterclerkny.gov/about/events/event/30-greenburgh-day-mobile-offi
 ce-visit
DTSTART:20250719T140000Z
DTEND:20250719T190000Z
LOCATION:Anthony F. Veteran Park\, 11 Olympic Lane\, Ardsley\, New York\, 1
 0502 ()
SUMMARY:Greenburgh Day - Mobile Office Visit 
URL:https://www.westchesterclerkny.gov/about/events/event/30-greenburgh-day
 -mobile-office-visit
END:VEVENT
END:VCALENDAR
