BEGIN:VCALENDAR
VERSION:2.0
PRODID:-//https://www.westchesterclerkny.gov///NONSGML kigkonsult.se iCalcreator 2.10.15//
METHOD:PUBLISH
BEGIN:VEVENT
UID:20260425T175914EDT-4685BexaxV@https://www.westchesterclerkny.gov/
DTSTAMP:20260425T215914Z
DESCRIPTION:Our expanded community outreach services office can now help yo
 u right in your home town. We can process your original passport or busine
 ss license application\, accept your DD-214 veterans discharge papers or n
 otarize documents when we visit Dobbs Ferry Village Hall on Main Street\, 
 in Dobbs Ferry\, NY 10522 on Wednesday\, July 23rd\, 10:00 a.m. to 1:00 p.
 m. https://www.westchesterclerkny.gov/about/events/event/29-dobbs-ferry-vi
 llage-hall-mobile-office-visit
DTSTART:20250723T140000Z
DTEND:20250723T170000Z
LOCATION:Dobbs Ferry Village Hall  (Dobbs Ferry Village Hall\, 112 Main Str
 eet\, Dobbs Ferry\, New York\, 10522)
SUMMARY:Dobbs Ferry Village Hall - Mobile Office Visit 
URL:https://www.westchesterclerkny.gov/about/events/event/29-dobbs-ferry-vi
 llage-hall-mobile-office-visit
END:VEVENT
END:VCALENDAR
