BEGIN:VCALENDAR
VERSION:2.0
PRODID:-//https://www.westchesterclerkny.gov///NONSGML kigkonsult.se iCalcreator 2.10.15//
METHOD:PUBLISH
BEGIN:VEVENT
UID:20260425T175735EDT-5583hBpzUG@https://www.westchesterclerkny.gov/
DTSTAMP:20260425T215735Z
DESCRIPTION:Our expanded community outreach services office can now help yo
 u right in your home town. We can process your original passport or busine
 ss license application\, accept your DD-214 veterans discharge papers or n
 otarize documents when we visit Mount Vernon City Hall on Roosevelt Square
  N\, in Mount Vernon\, NY 10550 on Wednesday\, 7/30\, 10:00 a.m. to 1:00 p
 .m. https://www.westchesterclerkny.gov/about/events/event/28-mount-vernon-
 mobile-office-visit
DTSTART:20250730T140000Z
DTEND:20250730T170000Z
LOCATION:Mount Vernon City Hall (1 Roosevelt Sqaure N\, Mount Vernon\, NY 1
 0550)
SUMMARY:Mount Vernon - Mobile Office Visit
URL:https://www.westchesterclerkny.gov/about/events/event/28-mount-vernon-m
 obile-office-visit
END:VEVENT
END:VCALENDAR
