BEGIN:VCALENDAR
VERSION:2.0
PRODID:-//https://www.westchesterclerkny.gov///NONSGML kigkonsult.se iCalcreator 2.10.15//
METHOD:PUBLISH
BEGIN:VEVENT
UID:20260425T180704EDT-5121opkhu3@https://www.westchesterclerkny.gov/
DTSTAMP:20260425T220704Z
DESCRIPTION:Our expanded community outreach services office can now help yo
 u right in your home town. We can process your original passport or busine
 ss license application\, accept your DD-214 veterans discharge papers or n
 otarize documents when we visit Cortlandt Town Hall on Heady Street\, in C
 ortlandt Manor\, NY 10567 on Tuesday\, 8/5\, 10:00 a.m. to 1:00 p.m. https
 ://www.westchesterclerkny.gov/about/events/event/27-cortlandt-mobile-offic
 e-visit
DTSTART:20250805T140000Z
DTEND:20250805T170000Z
LOCATION:Cortland Town Hall (1 Heady Street\, Cortland Manor\, New York\, 1
 0567)
SUMMARY:Cortlandt - Mobile Office Visit
URL:https://www.westchesterclerkny.gov/about/events/event/27-cortlandt-mobi
 le-office-visit
END:VEVENT
END:VCALENDAR
