BEGIN:VCALENDAR
VERSION:2.0
PRODID:-//https://www.westchesterclerkny.gov///NONSGML kigkonsult.se iCalcreator 2.10.15//
METHOD:PUBLISH
BEGIN:VEVENT
UID:20260425T175816EDT-3059Wcz5B3@https://www.westchesterclerkny.gov/
DTSTAMP:20260425T215816Z
DESCRIPTION: https://www.westchesterclerkny.gov/about/events/event/26-pelha
 m-town-hall-mobile-office-visit
DTSTART:20250807T140000Z
DTEND:20250807T180000Z
LOCATION:Pelham Town Hall (34 5th Avenue\, Pelham\, New York 10803)
SUMMARY:Pelham Town Hall Mobile Office Visit
URL:https://www.westchesterclerkny.gov/about/events/event/26-pelham-town-ha
 ll-mobile-office-visit
END:VEVENT
END:VCALENDAR
