BEGIN:VCALENDAR
VERSION:2.0
PRODID:-//https://www.westchesterclerkny.gov///NONSGML kigkonsult.se iCalcreator 2.10.15//
METHOD:PUBLISH
BEGIN:VEVENT
UID:20260425T180011EDT-9182j2LBXJ@https://www.westchesterclerkny.gov/
DTSTAMP:20260425T220011Z
DESCRIPTION: https://www.westchesterclerkny.gov/about/events/event/24-city-
 of-white-plains-mobile-office-visit
DTSTART:20250829T140000Z
DTEND:20250829T170000Z
LOCATION:El Centro Hispano  (295 Central Avenue\, White Plains\, NY\, 10606
 )
SUMMARY:City of White Plains - Mobile Office Visit
URL:https://www.westchesterclerkny.gov/about/events/event/24-city-of-white-
 plains-mobile-office-visit
END:VEVENT
END:VCALENDAR
