BEGIN:VCALENDAR
VERSION:2.0
PRODID:-//https://www.westchesterclerkny.gov///NONSGML kigkonsult.se iCalcreator 2.10.15//
METHOD:PUBLISH
BEGIN:VEVENT
UID:20260425T210034EDT-44440Ogsik@https://www.westchesterclerkny.gov/
DTSTAMP:20260426T010034Z
DESCRIPTION: https://www.westchesterclerkny.gov/about/events/event/23-labor
 -day
DTSTART;VALUE=DATE:20250901
LOCATION:Office of the Westchester County Clerk (110 Dr. Martin Luther King
  Blvd.\, White Plains\, NY 10601)
SUMMARY:Labor Day
URL:https://www.westchesterclerkny.gov/about/events/event/23-labor-day
END:VEVENT
END:VCALENDAR
