BEGIN:VCALENDAR
VERSION:2.0
PRODID:-//https://www.westchesterclerkny.gov///NONSGML kigkonsult.se iCalcreator 2.10.15//
METHOD:PUBLISH
BEGIN:VEVENT
UID:20260425T175708EDT-03384uDnv1@https://www.westchesterclerkny.gov/
DTSTAMP:20260425T215708Z
DESCRIPTION:Our expanded community outreach services office can now help yo
 u right in your home town. We can process your original passport or busine
 ss license application\, accept your DD-214 veterans discharge papers or n
 otarize documents when we visit North Castle Town Hall on Bedford Road\, i
 n Armonk\, NY 10504 on Tuesday\, 9/3\, 10:00 a.m. to 1:00 p.m. https://www
 .westchesterclerkny.gov/about/events/event/22-north-castle-mobile-office-v
 isit
DTSTART:20250903T140000Z
DTEND:20250903T170000Z
LOCATION:North Castle Town Hall (15 Bedford Road\, Armonk\, New York\, 1050
 4)
SUMMARY:North Castle - Mobile Office Visit
URL:https://www.westchesterclerkny.gov/about/events/event/22-north-castle-m
 obile-office-visit
END:VEVENT
END:VCALENDAR
