BEGIN:VCALENDAR
VERSION:2.0
PRODID:-//https://www.westchesterclerkny.gov///NONSGML kigkonsult.se iCalcreator 2.10.15//
METHOD:PUBLISH
BEGIN:VEVENT
UID:20260425T175842EDT-0839lTt9Lm@https://www.westchesterclerkny.gov/
DTSTAMP:20260425T215842Z
DESCRIPTION:Our expanded community outreach services office can now help yo
 u right in your home town. We can process your original passport or busine
 ss license application\, accept your DD-214 veterans discharge papers or n
 otarize documents when we visit the Croton Municipal Building on Van Wyck 
 Avenue\, in Croton on Hudson\, NY 10520 on Tuesday\, 9/9\, 10:00 a.m. to 1
 :00 p.m. https://www.westchesterclerkny.gov/about/events/event/21-croton-m
 unicipal-building-mobile-office-visit
DTSTART:20250909T140000Z
DTEND:20250909T170000Z
LOCATION:Croton Municipal Building  (1 Van Wyck Street\, Croton on Hudson\,
  New York\, 10520)
SUMMARY:Croton Municipal Building - Mobile Office Visit
URL:https://www.westchesterclerkny.gov/about/events/event/21-croton-municip
 al-building-mobile-office-visit
END:VEVENT
END:VCALENDAR
