BEGIN:VCALENDAR
VERSION:2.0
PRODID:-//https://www.westchesterclerkny.gov///NONSGML kigkonsult.se iCalcreator 2.10.15//
METHOD:PUBLISH
BEGIN:VEVENT
UID:20260425T175708EDT-0989KxxXNV@https://www.westchesterclerkny.gov/
DTSTAMP:20260425T215708Z
DESCRIPTION:Our expanded community outreach services office can now help yo
 u right in your home town. We can process your original passport or busine
 ss license application\, accept your DD-214 veterans discharge papers or n
 otarize documents when we visit Chappaqua Train Station on Allen Place\, i
 n Chappaqua\, NY 10514 on Saturday\, 9/13\, 10:00 a.m. to 2:00 p.m. https:
 //www.westchesterclerkny.gov/about/events/event/20-chappaqua-mobile-office
 -visit
DTSTART:20250913T140000Z
DTEND:20250913T180000Z
LOCATION:Chappaqua Train Station (108 Allen Place\, Chappaqua\, New York\, 
 10514)
SUMMARY:Chappaqua - Mobile Office Visit 
URL:https://www.westchesterclerkny.gov/about/events/event/20-chappaqua-mobi
 le-office-visit
END:VEVENT
END:VCALENDAR
