BEGIN:VCALENDAR
VERSION:2.0
PRODID:-//https://www.westchesterclerkny.gov///NONSGML kigkonsult.se iCalcreator 2.10.15//
METHOD:PUBLISH
BEGIN:VEVENT
UID:20260425T180310EDT-142164Z0tp@https://www.westchesterclerkny.gov/
DTSTAMP:20260425T220310Z
DESCRIPTION:Our expanded community outreach services office can now help yo
 u right in your home town. We can process your original passport or busine
 ss license application\, accept your DD-214 veterans discharge papers or n
 otarize documents when we visit Pound Ridge Town Park on Westchester Avenu
 e\, in Pound Ridge\, NY 10576 on Thursday\, 9/18\, 10:00 a.m. to 1:00 p.m.
  https://www.westchesterclerkny.gov/about/events/event/18-pound-ridge-town
 -park-office-mobile-visit
DTSTART:20250918T140000Z
DTEND:20250918T170000Z
LOCATION:Pound Ridge Town Park (199 Westchester Avenue\, Pound Ridge\, New 
 York 10576)
SUMMARY:Pound Ridge Town Park - Office Mobile Visit 
URL:https://www.westchesterclerkny.gov/about/events/event/18-pound-ridge-to
 wn-park-office-mobile-visit
END:VEVENT
END:VCALENDAR
