BEGIN:VCALENDAR
VERSION:2.0
PRODID:-//https://www.westchesterclerkny.gov///NONSGML kigkonsult.se iCalcreator 2.10.15//
METHOD:PUBLISH
BEGIN:VEVENT
UID:20260425T175739EDT-61919j1Cu5@https://www.westchesterclerkny.gov/
DTSTAMP:20260425T215739Z
DESCRIPTION:Our expanded community outreach services office can now help yo
 u right in your home town. We can process your original passport or busine
 ss license application\, accept your DD-214 veterans discharge papers or n
 otarize documents when we visit Scarsdale on Chase Road\, in Scarsdale\, N
 Y 10583 on Sunday\, 9/21\, 9:00 a.m. to 2:00 p.m. https://www.westchesterc
 lerkny.gov/about/events/event/17-scarsdale-mobile-office-visit
DTSTART:20250921T130000Z
DTEND:20250921T180000Z
LOCATION:Scarsdale Farmers' Market  (Chase Road at Boniface Circle\, Scarsd
 ale\, NY 10583)
SUMMARY:Scarsdale - Mobile Office Visit
URL:https://www.westchesterclerkny.gov/about/events/event/17-scarsdale-mobi
 le-office-visit
END:VEVENT
END:VCALENDAR
