BEGIN:VCALENDAR
VERSION:2.0
PRODID:-//https://www.westchesterclerkny.gov///NONSGML kigkonsult.se iCalcreator 2.10.15//
METHOD:PUBLISH
BEGIN:VEVENT
UID:20260425T180809EDT-2043Dbv1xu@https://www.westchesterclerkny.gov/
DTSTAMP:20260425T220809Z
DESCRIPTION:Our expanded community outreach services office can now help yo
 u right in your home town. We can process your original passport or busine
 ss license application\, accept your DD-214 veterans discharge papers or n
 otarize documents when we visit the New Rochelle Public Library on Lawton 
 Street\, in New Rochelle\, NY 10801 on Wednesday\, September 24\, 10:00 a.
 m. to 1:00 p.m. https://www.westchesterclerkny.gov/about/events/event/16-n
 ew-rochelle-mobile-office-visit
DTSTART:20250924T140000Z
DTEND:20250924T170000Z
LOCATION:Outside of the New Rochelle Public Library (1 Library Plaza\, Lawt
 on Street\, New Rochelle\, NY 10801)
SUMMARY:New Rochelle - Mobile Office Visit
URL:https://www.westchesterclerkny.gov/about/events/event/16-new-rochelle-m
 obile-office-visit
END:VEVENT
END:VCALENDAR
