BEGIN:VCALENDAR
VERSION:2.0
PRODID:-//https://www.westchesterclerkny.gov///NONSGML kigkonsult.se iCalcreator 2.10.15//
METHOD:PUBLISH
BEGIN:VEVENT
UID:20260425T192337EDT-0122VAk8AX@https://www.westchesterclerkny.gov/
DTSTAMP:20260425T232337Z
DESCRIPTION: https://www.westchesterclerkny.gov/about/events/event/1-christ
 mas-day
DTSTART;VALUE=DATE:20251225
LOCATION:Office of the Westchester County Clerk (110 Dr. Martin Luther King
  Blvd.\, White Plains\, NY 10601)
SUMMARY:Christmas Day
URL:https://www.westchesterclerkny.gov/about/events/event/1-christmas-day
END:VEVENT
END:VCALENDAR
