BEGIN:VCALENDAR
VERSION:2.0
PRODID:-//https://www.westchesterclerkny.gov///NONSGML kigkonsult.se iCalcreator 2.10.15//
METHOD:PUBLISH
BEGIN:VEVENT
UID:20260425T202351EDT-1362I0EtFm@https://www.westchesterclerkny.gov/
DTSTAMP:20260426T002351Z
DESCRIPTION:Citizenship is one of the most coveted gifts that the United St
 ates government can bestow. Most people become U.S. citizens by birth with
 in the United States or to U.S. citizen parents. However\, others become U
 .S. citizens by naturalization. Naturalization is the process by which Uni
 ted States citizenship is conferred upon a foreign citizen or national aft
 er he or she fulfills the requirements established by Congress in the Immi
 gration and Nationality Act (INA). These requirements include a period of 
 residency within the United States\, the ability to read\, write and speak
  English\, and an understanding of United States history\, among other thi
 ngs. In addition\, all naturalization applicants must demonstrate good mor
 al character. For information on applying for citizenship\, please visit U
 nited States Citizenship and Immigration Services  or download the 10 step
 s to Naturalization or call (800) 375-5283. https://www.westchesterclerkny
 .gov/about/events/event/2-naturalization-ceremony
DTSTART:20251203T173000Z
DTEND:20251203T190000Z
LOCATION:Richard J. Daronco Courthouse (111 Dr. Martin Luther King Jr. Blvd
 .\, White Plains\, NY 10601)
SUMMARY:Naturalization Ceremony
URL:https://www.westchesterclerkny.gov/about/events/event/2-naturalization-
 ceremony
END:VEVENT
END:VCALENDAR
