BEGIN:VCALENDAR
VERSION:2.0
PRODID:-//https://www.westchesterclerkny.gov///NONSGML kigkonsult.se iCalcreator 2.10.15//
METHOD:PUBLISH
BEGIN:VEVENT
UID:20260425T215843EDT-83305naS9P@https://www.westchesterclerkny.gov/
DTSTAMP:20260426T015843Z
DESCRIPTION: https://www.westchesterclerkny.gov/about/events/event/6-vetera
 ns-day
DTSTART;VALUE=DATE:20251111
LOCATION:Office of the Westchester County Clerk (110 Dr. Martin Luther King
  Blvd.\, White Plains\, NY 10601)
SUMMARY:Veterans' Day
URL:https://www.westchesterclerkny.gov/about/events/event/6-veterans-day
END:VEVENT
END:VCALENDAR
