BEGIN:VCALENDAR
VERSION:2.0
PRODID:-//https://www.westchesterclerkny.gov///NONSGML kigkonsult.se iCalcreator 2.10.15//
METHOD:PUBLISH
BEGIN:VEVENT
UID:20260425T161958EDT-1597EjvNuM@https://www.westchesterclerkny.gov/
DTSTAMP:20260425T201958Z
DESCRIPTION:Services Offered:•    Passport Application (DS-11)•    Passport
  Photo•    Business Certificate Application•    Acceptance of DD-214 Veter
 an Discharge Papers•    Free Notary Services https://www.westchesterclerkn
 y.gov/about/events/event/67-sleepy-hollow-passport-acceptance-event
DTSTART:20260530T100000Z
DTEND:20260530T140000Z
LOCATION:Lot 21 across from Village Hall  (28 Beekman Avenue\, Sleepy Hollo
 w\, NY 10591)
SUMMARY:Sleepy Hollow Passport Acceptance Event 
URL:https://www.westchesterclerkny.gov/about/events/event/67-sleepy-hollow-
 passport-acceptance-event
END:VEVENT
END:VCALENDAR
