BEGIN:VCALENDAR
VERSION:2.0
PRODID:-//https://www.westchesterclerkny.gov///NONSGML kigkonsult.se iCalcreator 2.10.15//
METHOD:PUBLISH
BEGIN:VEVENT
UID:20260425T162000EDT-2889GTa2dh@https://www.westchesterclerkny.gov/
DTSTAMP:20260425T202000Z
DESCRIPTION:Passport Mobile Visit https://www.westchesterclerkny.gov/about/
 events/event/65-passport-mobile-visit
DTSTART:20260516T000000Z
DTEND:20260516T140000Z
LOCATION:Pelham Town Hall (34 5th Avenue\, Pelham\, New York 10803)
SUMMARY:Passport Mobile Visit
URL:https://www.westchesterclerkny.gov/about/events/event/65-passport-mobil
 e-visit
END:VEVENT
END:VCALENDAR
