BEGIN:VCALENDAR
VERSION:2.0
PRODID:-//https://www.westchesterclerkny.gov///NONSGML kigkonsult.se iCalcreator 2.10.15//
METHOD:PUBLISH
BEGIN:VEVENT
UID:20260425T145952EDT-2680blxt1V@https://www.westchesterclerkny.gov/
DTSTAMP:20260425T185952Z
DESCRIPTION: https://www.westchesterclerkny.gov/about/events/event/64-yonke
 rs-passport-acceptance
DTSTART:20260404T100000Z
DTEND:20260404T140000Z
LOCATION:Yonkers  Grinton I Will Library (1500 Central Park Ave\, Yonkers\,
  NY 10710)
SUMMARY:Yonkers Passport Acceptance 
URL:https://www.westchesterclerkny.gov/about/events/event/64-yonkers-passpo
 rt-acceptance
END:VEVENT
END:VCALENDAR
