BEGIN:VCALENDAR
VERSION:2.0
PRODID:-//https://www.westchesterclerkny.gov///NONSGML kigkonsult.se iCalcreator 2.10.15//
METHOD:PUBLISH
BEGIN:VEVENT
UID:20260425T163952EDT-4664wGsuSa@https://www.westchesterclerkny.gov/
DTSTAMP:20260425T203952Z
DESCRIPTION:Services we will offer on-site include:\n• Filing and obtaining
  copies of Military Discharge/DD214\n• Registering DBAs and issuing certif
 ied copies\n• Providing certified copies of deeds\, mortgages\, and satisf
 actions of mortgage\n• Free Notary Public services\n• Passport photos http
 s://www.westchesterclerkny.gov/about/events/event/60-community-outreach-do
 bbs-ferry
DTSTART:20260304T110000Z
DTEND:20260304T133000Z
LOCATION:Dobbs Ferry Village Hall  (Dobbs Ferry Village Hall\, 112 Main Str
 eet\, Dobbs Ferry\, New York\, 10522)
SUMMARY:Community Outreach Dobbs Ferry
URL:https://www.westchesterclerkny.gov/about/events/event/60-community-outr
 each-dobbs-ferry
END:VEVENT
END:VCALENDAR
